BEGIN:VCALENDAR
VERSION:2.0
PRODID:-//Alameda County Resource Conservation District (ACRCD) - ECPv6.15.20//NONSGML v1.0//EN
CALSCALE:GREGORIAN
METHOD:PUBLISH
X-ORIGINAL-URL:https://acrcd.org
X-WR-CALDESC:Events for Alameda County Resource Conservation District (ACRCD)
REFRESH-INTERVAL;VALUE=DURATION:PT1H
X-Robots-Tag:noindex
X-PUBLISHED-TTL:PT1H
BEGIN:VTIMEZONE
TZID:America/Los_Angeles
BEGIN:DAYLIGHT
TZOFFSETFROM:-0800
TZOFFSETTO:-0700
TZNAME:PDT
DTSTART:20240310T100000
END:DAYLIGHT
BEGIN:STANDARD
TZOFFSETFROM:-0700
TZOFFSETTO:-0800
TZNAME:PST
DTSTART:20241103T090000
END:STANDARD
BEGIN:DAYLIGHT
TZOFFSETFROM:-0800
TZOFFSETTO:-0700
TZNAME:PDT
DTSTART:20250309T100000
END:DAYLIGHT
BEGIN:STANDARD
TZOFFSETFROM:-0700
TZOFFSETTO:-0800
TZNAME:PST
DTSTART:20251102T090000
END:STANDARD
BEGIN:DAYLIGHT
TZOFFSETFROM:-0800
TZOFFSETTO:-0700
TZNAME:PDT
DTSTART:20260308T100000
END:DAYLIGHT
BEGIN:STANDARD
TZOFFSETFROM:-0700
TZOFFSETTO:-0800
TZNAME:PST
DTSTART:20261101T090000
END:STANDARD
END:VTIMEZONE
BEGIN:VEVENT
DTSTART;TZID=America/Los_Angeles:20250904T170000
DTEND;TZID=America/Los_Angeles:20250904T193000
DTSTAMP:20260421T152526
CREATED:20250724T190331Z
LAST-MODIFIED:20250724T190717Z
UID:2723-1757005200-1757014200@acrcd.org
SUMMARY:Local Work Group
DESCRIPTION:If you are an Alameda County rancher\, farmer\, winegrower\, or land owner\, RSVP today! \nPlease come prepared to enjoy happy hour with small bites\, share your conservation needs\, and leave with an understanding of the Conservation Partnership’s current programs and funding opportunities.
URL:https://acrcd.org/event/2723/
LOCATION:Martinelli Center\, 3585 Greenville Road\, Livermore\, CA\, 94550\, United States
ATTACH;FMTTYPE=image/jpeg:https://acrcd.org/wp-content/uploads/2025/07/Local-Workgroup-Flyer-Sept.-2025.jpg
END:VEVENT
BEGIN:VEVENT
DTSTART;TZID=America/Los_Angeles:20250920T090000
DTEND;TZID=America/Los_Angeles:20250920T120000
DTSTAMP:20260421T152526
CREATED:20250723T163118Z
LAST-MODIFIED:20250723T180644Z
UID:2718-1758358800-1758369600@acrcd.org
SUMMARY:Coastal Cleanup Day
DESCRIPTION:This effort is part of the statewide Coastal Cleanup Day and is made possible by the Alameda County Flood Control and Water Conservation District and The Alameda County Unincorporated Area Clean Water Program in coordination with Friends of San Lorenzo Creek. \nBe part of the annual Coastal Cleanup Day at the Castro Valley Creek Trail! Volunteers* will participate in a litter pickup along the creek trail and beautify the trail starting from the Castro Valley Library to Castro Valley Creek Blvd. \nTrash from inland areas\, like Castro Valley Creek\, flows downstream to the coast and into the ocean. Cleaning upstream riparian areas helps prevent garbage from entering the ocean\, protecting birds and other marine animals\, while beautifying the environment. Yeah! \nVolunteers* may also participate in a water testing demonstration to learn about various types of water pollution and their effects on the creek and the ocean. \nQuestions? Please contact Jennifer Trevis at jennifer.trevis@acrcd.org
URL:https://acrcd.org/event/coastal-cleanup-day/
LOCATION:Castro Valley Creek Trail\, 3625 Castro Valley Blvd.\, Castro Valley\, United States
CATEGORIES:Volunteer
ATTACH;FMTTYPE=image/jpeg:https://acrcd.org/wp-content/uploads/2025/07/CWP-CCD-Flyer-2025.jpg
END:VEVENT
BEGIN:VEVENT
DTSTART;TZID=America/Los_Angeles:20250920T090000
DTEND;TZID=America/Los_Angeles:20250920T120000
DTSTAMP:20260421T152526
CREATED:20250825T224441Z
LAST-MODIFIED:20250825T224541Z
UID:2755-1758358800-1758369600@acrcd.org
SUMMARY:Living Arroyos Coastal Cleanup Day Events
DESCRIPTION:Join Living Arroyos for Coastal Cleanup Day! They are hosting sites all across the Tri-Valley\, and each one has unique volunteer needs. Pick the spot that’s right for you and sign up early to save your spot! \nLivermore: \n\nArroyo Las Positas from Northfront Rd. to Vasco Rd.\n\n15 volunteers\n\n\nArroyo Mocho at Robertson Park\n\n30 volunteers\n\n\nArroyo Las Positas from Bluebell Dr. to Springtown Blvd.\n\n15 volunteers\n\n\n\nDublin: \n\nAlamo Creek from Amador Valley Blvd to Crossridge Rd\n\n15 volunteers\n\n\nTassajara Creek at Emerald Glen Park from Gleason Dr to Central Parkway\n\n18 volunteers\n\n\n\nPleasanton \n\nBernal Creek from Sports Park to 680\n\n10 volunteers\n\n\nArroyo del Valle between Main St and Harvest Cr\n\n15 volunteers
URL:https://acrcd.org/event/living-arroyos-coastal-cleanup-day-events/
CATEGORIES:Volunteer
ATTACH;FMTTYPE=image/png:https://acrcd.org/wp-content/uploads/2025/08/LA-CCD.png
END:VEVENT
BEGIN:VEVENT
DTSTART;TZID=America/Los_Angeles:20250923T090000
DTEND;TZID=America/Los_Angeles:20250923T113000
DTSTAMP:20260421T152526
CREATED:20250815T010003Z
LAST-MODIFIED:20250815T010041Z
UID:2748-1758618000-1758627000@acrcd.org
SUMMARY:East Bay Wildlife Crossing Land Trust/Land Owner Meeting
DESCRIPTION:As part of Alameda County Resource Conservation District’s ongoing project to design three new wildlife crossing structures and identify priority existing ones\, we are seeking input and partnership from land trusts\, public landowners and managers\, and other land conservation stakeholders. Long-term success of these crossings depends on securing and stewarding the surrounding landscapes. \n  \nIf you are an individual or work for an organization involved with land acquisition around I-580\, I-680 and SR-84 in the Alameda County\, please register to attend.
URL:https://acrcd.org/event/east-bay-wildlife-crossing-land-trust-land-owner-meeting/
LOCATION:City of Dublin Bray Community Room\, 100 Civic Plaza\, Dublin\, CA\, 94568\, United States
ATTACH;FMTTYPE=image/png:https://acrcd.org/wp-content/uploads/2024/06/East-Bay-logos-01-mt.-lion.png
END:VEVENT
BEGIN:VEVENT
DTSTART;TZID=America/Los_Angeles:20250925T180000
DTEND;TZID=America/Los_Angeles:20250925T200000
DTSTAMP:20260421T152526
CREATED:20250616T232757Z
LAST-MODIFIED:20250616T232757Z
UID:2706-1758823200-1758830400@acrcd.org
SUMMARY:ACRCD Board Meeting
DESCRIPTION:
URL:https://acrcd.org/event/acrcd-board-meeting-4/
LOCATION:Martinelli Center\, 3585 Greenville Road\, Livermore\, CA\, 94550\, United States
CATEGORIES:Board Meetings
END:VEVENT
BEGIN:VEVENT
DTSTART;TZID=America/Los_Angeles:20250928T090000
DTEND;TZID=America/Los_Angeles:20250928T120000
DTSTAMP:20260421T152526
CREATED:20250924T213941Z
LAST-MODIFIED:20250924T213941Z
UID:2775-1759050000-1759060800@acrcd.org
SUMMARY:World Rivers Day
DESCRIPTION:Join the Alameda County Unincorporated Area Clean Water Volunteers for a hands-on\, family friendly celebration of Work Rivers Day! There will be a volunteer creek clean-up\, water science activities\, interactive games and talks\, and snacks! \nRegister to volunteer for the creek clean-up at the link.
URL:https://acrcd.org/event/world-rivers-day/
ATTACH;FMTTYPE=image/png:https://acrcd.org/wp-content/uploads/2025/09/World-Rivers-Day-2025-Flyer-9.28.25-1-1.png
END:VEVENT
END:VCALENDAR