BEGIN:VCALENDAR
VERSION:2.0
PRODID:-//Alameda County Resource Conservation District (ACRCD) - ECPv6.15.20//NONSGML v1.0//EN
CALSCALE:GREGORIAN
METHOD:PUBLISH
X-WR-CALNAME:Alameda County Resource Conservation District (ACRCD)
X-ORIGINAL-URL:https://acrcd.org
X-WR-CALDESC:Events for Alameda County Resource Conservation District (ACRCD)
REFRESH-INTERVAL;VALUE=DURATION:PT1H
X-Robots-Tag:noindex
X-PUBLISHED-TTL:PT1H
BEGIN:VTIMEZONE
TZID:America/Los_Angeles
BEGIN:DAYLIGHT
TZOFFSETFROM:-0800
TZOFFSETTO:-0700
TZNAME:PDT
DTSTART:20190310T100000
END:DAYLIGHT
BEGIN:STANDARD
TZOFFSETFROM:-0700
TZOFFSETTO:-0800
TZNAME:PST
DTSTART:20191103T090000
END:STANDARD
BEGIN:DAYLIGHT
TZOFFSETFROM:-0800
TZOFFSETTO:-0700
TZNAME:PDT
DTSTART:20200308T100000
END:DAYLIGHT
BEGIN:STANDARD
TZOFFSETFROM:-0700
TZOFFSETTO:-0800
TZNAME:PST
DTSTART:20201101T090000
END:STANDARD
BEGIN:DAYLIGHT
TZOFFSETFROM:-0800
TZOFFSETTO:-0700
TZNAME:PDT
DTSTART:20210314T100000
END:DAYLIGHT
BEGIN:STANDARD
TZOFFSETFROM:-0700
TZOFFSETTO:-0800
TZNAME:PST
DTSTART:20211107T090000
END:STANDARD
END:VTIMEZONE
BEGIN:VEVENT
DTSTART;TZID=America/Los_Angeles:20200214T080000
DTEND;TZID=America/Los_Angeles:20200216T170000
DTSTAMP:20260424T072114
CREATED:20191217T182148Z
LAST-MODIFIED:20191217T182854Z
UID:695-1581667200-1581872400@acrcd.org
SUMMARY:Alameda County Spring Home and Garden Show
DESCRIPTION:Visit us at the ACFC&WCD Clean Water Program booth
URL:https://acrcd.org/event/alameda-county-spring-home-and-garden-show/
LOCATION:Alameda County Fairgrounds\, 4501 Pleasanton Ave\, Pleasanton\, CA\, 94566\, United States
CATEGORIES:Daily Events
END:VEVENT
BEGIN:VEVENT
DTSTART;TZID=America/Los_Angeles:20200224T180000
DTEND;TZID=America/Los_Angeles:20200224T190000
DTSTAMP:20260424T072114
CREATED:20191216T191800Z
LAST-MODIFIED:20191216T191800Z
UID:682-1582567200-1582570800@acrcd.org
SUMMARY:February Board Meeting
DESCRIPTION:
URL:https://acrcd.org/event/february-board-meeting/
LOCATION:ACRCD\, 3585 Greenville Road\, Livermore\, CA\, 94550\, United States
CATEGORIES:Board Meetings
END:VEVENT
END:VCALENDAR