BEGIN:VCALENDAR
VERSION:2.0
PRODID:-//Alameda County Resource Conservation District (ACRCD) - ECPv6.15.20//NONSGML v1.0//EN
CALSCALE:GREGORIAN
METHOD:PUBLISH
X-ORIGINAL-URL:https://acrcd.org
X-WR-CALDESC:Events for Alameda County Resource Conservation District (ACRCD)
REFRESH-INTERVAL;VALUE=DURATION:PT1H
X-Robots-Tag:noindex
X-PUBLISHED-TTL:PT1H
BEGIN:VTIMEZONE
TZID:America/Los_Angeles
BEGIN:DAYLIGHT
TZOFFSETFROM:-0800
TZOFFSETTO:-0700
TZNAME:PDT
DTSTART:20240310T100000
END:DAYLIGHT
BEGIN:STANDARD
TZOFFSETFROM:-0700
TZOFFSETTO:-0800
TZNAME:PST
DTSTART:20241103T090000
END:STANDARD
BEGIN:DAYLIGHT
TZOFFSETFROM:-0800
TZOFFSETTO:-0700
TZNAME:PDT
DTSTART:20250309T100000
END:DAYLIGHT
BEGIN:STANDARD
TZOFFSETFROM:-0700
TZOFFSETTO:-0800
TZNAME:PST
DTSTART:20251102T090000
END:STANDARD
BEGIN:DAYLIGHT
TZOFFSETFROM:-0800
TZOFFSETTO:-0700
TZNAME:PDT
DTSTART:20260308T100000
END:DAYLIGHT
BEGIN:STANDARD
TZOFFSETFROM:-0700
TZOFFSETTO:-0800
TZNAME:PST
DTSTART:20261101T090000
END:STANDARD
END:VTIMEZONE
BEGIN:VEVENT
DTSTART;TZID=America/Los_Angeles:20250717T110000
DTEND;TZID=America/Los_Angeles:20250717T123000
DTSTAMP:20260421T111049
CREATED:20250616T214432Z
LAST-MODIFIED:20250616T214432Z
UID:2700-1752750000-1752755400@acrcd.org
SUMMARY:Rancher Easement Workshop Webinar
DESCRIPTION:Join us for a free\, informative webinar designed to help you understand conservation easements\, how they can benefit both you and the land you love\, and potential funding opportunities that could be available to you in Alameda County. \nTopics Covered: \n\nIntroduction & landowner insights: Clayton Koopmann\, Koopmann Ranch\nLocal support & opportunities: Ian Howell\, Alameda County RCD\nConservation easements overview: Jackie Flatt\, California Rangeland Trust\nAppraiser insights: David Wraa\, Bender Rosenthal\, Inc.\nALOSC funding programs: Dick Schneider\, Alameda Co. RCD\n\n  \nDon’t miss this chance to gain practical tools and information to protect your land! \nRegistration required at the link.
URL:https://acrcd.org/event/rancher-easement-workshop-webinar/
LOCATION:Zoom
CATEGORIES:Workshop
ATTACH;FMTTYPE=image/jpeg:https://acrcd.org/wp-content/uploads/2025/06/ALOSC-Webinar-Socials.jpg
END:VEVENT
END:VCALENDAR