BEGIN:VCALENDAR
VERSION:2.0
PRODID:-//Alameda County Resource Conservation District (ACRCD) - ECPv6.15.20//NONSGML v1.0//EN
CALSCALE:GREGORIAN
METHOD:PUBLISH
X-ORIGINAL-URL:https://acrcd.org
X-WR-CALDESC:Events for Alameda County Resource Conservation District (ACRCD)
REFRESH-INTERVAL;VALUE=DURATION:PT1H
X-Robots-Tag:noindex
X-PUBLISHED-TTL:PT1H
BEGIN:VTIMEZONE
TZID:America/Los_Angeles
BEGIN:DAYLIGHT
TZOFFSETFROM:-0800
TZOFFSETTO:-0700
TZNAME:PDT
DTSTART:20190310T100000
END:DAYLIGHT
BEGIN:STANDARD
TZOFFSETFROM:-0700
TZOFFSETTO:-0800
TZNAME:PST
DTSTART:20191103T090000
END:STANDARD
BEGIN:DAYLIGHT
TZOFFSETFROM:-0800
TZOFFSETTO:-0700
TZNAME:PDT
DTSTART:20200308T100000
END:DAYLIGHT
BEGIN:STANDARD
TZOFFSETFROM:-0700
TZOFFSETTO:-0800
TZNAME:PST
DTSTART:20201101T090000
END:STANDARD
BEGIN:DAYLIGHT
TZOFFSETFROM:-0800
TZOFFSETTO:-0700
TZNAME:PDT
DTSTART:20210314T100000
END:DAYLIGHT
BEGIN:STANDARD
TZOFFSETFROM:-0700
TZOFFSETTO:-0800
TZNAME:PST
DTSTART:20211107T090000
END:STANDARD
END:VTIMEZONE
BEGIN:VEVENT
DTSTART;TZID=America/Los_Angeles:20200417T083000
DTEND;TZID=America/Los_Angeles:20200418T150000
DTSTAMP:20260421T193248
CREATED:20200218T194916Z
LAST-MODIFIED:20200416T202209Z
UID:751-1587112200-1587222000@acrcd.org
SUMMARY:Grassland Butterfly Symposium
DESCRIPTION:Cancelled due to Covid-19.
URL:https://acrcd.org/event/grassland-butterfly-symposium-2/
LOCATION:Robert Livermore Community Center\, 4444 East Ave\, Livermore\, CA\, 94550\, United States
CATEGORIES:Workshop
END:VEVENT
END:VCALENDAR