BEGIN:VCALENDAR
VERSION:2.0
PRODID:-//Alameda County Resource Conservation District (ACRCD) - ECPv6.15.20//NONSGML v1.0//EN
CALSCALE:GREGORIAN
METHOD:PUBLISH
X-ORIGINAL-URL:https://acrcd.org
X-WR-CALDESC:Events for Alameda County Resource Conservation District (ACRCD)
REFRESH-INTERVAL;VALUE=DURATION:PT1H
X-Robots-Tag:noindex
X-PUBLISHED-TTL:PT1H
BEGIN:VTIMEZONE
TZID:America/Los_Angeles
BEGIN:DAYLIGHT
TZOFFSETFROM:-0800
TZOFFSETTO:-0700
TZNAME:PDT
DTSTART:20190310T100000
END:DAYLIGHT
BEGIN:STANDARD
TZOFFSETFROM:-0700
TZOFFSETTO:-0800
TZNAME:PST
DTSTART:20191103T090000
END:STANDARD
BEGIN:DAYLIGHT
TZOFFSETFROM:-0800
TZOFFSETTO:-0700
TZNAME:PDT
DTSTART:20200308T100000
END:DAYLIGHT
BEGIN:STANDARD
TZOFFSETFROM:-0700
TZOFFSETTO:-0800
TZNAME:PST
DTSTART:20201101T090000
END:STANDARD
BEGIN:DAYLIGHT
TZOFFSETFROM:-0800
TZOFFSETTO:-0700
TZNAME:PDT
DTSTART:20210314T100000
END:DAYLIGHT
BEGIN:STANDARD
TZOFFSETFROM:-0700
TZOFFSETTO:-0800
TZNAME:PST
DTSTART:20211107T090000
END:STANDARD
END:VTIMEZONE
BEGIN:VEVENT
DTSTART;TZID=America/Los_Angeles:20200329T163000
DTEND;TZID=America/Los_Angeles:20200329T180000
DTSTAMP:20260421T193219
CREATED:20200329T232307Z
LAST-MODIFIED:20200330T000411Z
UID:798-1585499400-1585504800@acrcd.org
SUMMARY:Special Board Meeting via conference call 3/29 at 4:30pm
DESCRIPTION:Conference call in number 480-660-5318   #331576
URL:https://acrcd.org/event/special-board-meeting-via-conference-call-3-29-at-430pm/
END:VEVENT
END:VCALENDAR